BEGIN:VCALENDAR
VERSION:2.0
PRODID:-//hacksw/handcal//NONSGML v1.0//EN
CALSCALE:GREGORIAN
BEGIN:VEVENT
LOCATION:
DESCRIPTION:Komm vorbei\, triff die Szene und werde Teil des Austauschs! 
DTSTART:20260628T134500Z
DTEND:20260628T144500Z
SUMMARY:Netzwerktreffen Tanz Ulm
URL;VALUE=URI:https://www.roxy.ulm.de/programm/programm.php?vid=5626
DTSTAMP:20260424T165552Z
UID:69eb84786a4d7
END:VEVENT
END:VCALENDAR