BEGIN:VCALENDAR
VERSION:2.0
PRODID:-//hacksw/handcal//NONSGML v1.0//EN
CALSCALE:GREGORIAN
BEGIN:VEVENT
LOCATION:Cafébar
DESCRIPTION:
DTSTART:20260625T170000Z
DTEND:20260625T180000Z
SUMMARY:Eröffnung ZANT 2026
URL;VALUE=URI:https://www.roxy.ulm.de/programm/programm.php?vid=5625
DTSTAMP:20260424T165558Z
UID:69eb847e76f3c
END:VEVENT
END:VCALENDAR