BEGIN:VCALENDAR
VERSION:2.0
PRODID:-//hacksw/handcal//NONSGML v1.0//EN
CALSCALE:GREGORIAN
BEGIN:VEVENT
LOCATION:Galerie
DESCRIPTION:Tanz und Care
DTSTART:20260628T080000Z
DTEND:20260628T090000Z
SUMMARY:Fachtag Tanz
URL;VALUE=URI:https://www.roxy.ulm.de/programm/programm.php?vid=5624
DTSTAMP:20260424T165659Z
UID:69eb84bbce022
END:VEVENT
END:VCALENDAR