BEGIN:VCALENDAR
VERSION:2.0
PRODID:-//hacksw/handcal//NONSGML v1.0//EN
CALSCALE:GREGORIAN
BEGIN:VEVENT
LOCATION:Studio
DESCRIPTION:Installation aus Licht & Tanz
DTSTART:20260628T140000Z
DTEND:20260628T150000Z
SUMMARY:Portals:Imagine 
URL;VALUE=URI:https://www.roxy.ulm.de/programm/programm.php?vid=5622
DTSTAMP:20260424T171740Z
UID:69eb8994abab1
END:VEVENT
END:VCALENDAR