BEGIN:VCALENDAR
VERSION:2.0
PRODID:-//hacksw/handcal//NONSGML v1.0//EN
CALSCALE:GREGORIAN
BEGIN:VEVENT
LOCATION:Studio
DESCRIPTION:Installation aus Licht & Tanz
DTSTART:20260628T130000Z
DTEND:20260628T140000Z
SUMMARY:Portals:Imagine 
URL;VALUE=URI:https://www.roxy.ulm.de/programm/programm.php?vid=5621
DTSTAMP:20260424T165516Z
UID:69eb845437406
END:VEVENT
END:VCALENDAR