BEGIN:VCALENDAR
VERSION:2.0
PRODID:-//hacksw/handcal//NONSGML v1.0//EN
CALSCALE:GREGORIAN
BEGIN:VEVENT
LOCATION:
DESCRIPTION:Daria Koval 
DTSTART:20260628T133000Z
DTEND:20260628T143000Z
SUMMARY:Holding the Tide
URL;VALUE=URI:https://www.roxy.ulm.de/programm/programm.php?vid=5620
DTSTAMP:20260424T165528Z
UID:69eb846032059
END:VEVENT
END:VCALENDAR