BEGIN:VCALENDAR
VERSION:2.0
PRODID:-//hacksw/handcal//NONSGML v1.0//EN
CALSCALE:GREGORIAN
BEGIN:VEVENT
LOCATION:
DESCRIPTION:
DTSTART:20260627T210000Z
DTEND:20260627T220000Z
SUMMARY:ZANT After Party
URL;VALUE=URI:https://www.roxy.ulm.de/programm/programm.php?vid=5617
DTSTAMP:20260424T214929Z
UID:69ebc949e303b
END:VEVENT
END:VCALENDAR