BEGIN:VCALENDAR
VERSION:2.0
PRODID:-//hacksw/handcal//NONSGML v1.0//EN
CALSCALE:GREGORIAN
BEGIN:VEVENT
LOCATION:
DESCRIPTION:
DTSTART:20260627T153000Z
DTEND:20260627T163000Z
SUMMARY:Popschorle
URL;VALUE=URI:https://www.roxy.ulm.de/programm/programm.php?vid=5616
DTSTAMP:20260424T165551Z
UID:69eb8477e8ae7
END:VEVENT
END:VCALENDAR