BEGIN:VCALENDAR
VERSION:2.0
PRODID:-//hacksw/handcal//NONSGML v1.0//EN
CALSCALE:GREGORIAN
BEGIN:VEVENT
LOCATION:
DESCRIPTION:Banda Esfèrica
DTSTART:20260628T121500Z
DTEND:20260628T131500Z
SUMMARY:Frogs in the Sky\, Water on Earth!
URL;VALUE=URI:https://www.roxy.ulm.de/programm/programm.php?vid=5613
DTSTAMP:20260424T170900Z
UID:69eb878c94e31
END:VEVENT
END:VCALENDAR