BEGIN:VCALENDAR
VERSION:2.0
PRODID:-//hacksw/handcal//NONSGML v1.0//EN
CALSCALE:GREGORIAN
BEGIN:VEVENT
LOCATION:
DESCRIPTION:
DTSTART:20260628T140000Z
DTEND:20260628T150000Z
SUMMARY:Tango Milonga
URL;VALUE=URI:https://www.roxy.ulm.de/programm/programm.php?vid=5612
DTSTAMP:20260424T165551Z
UID:69eb8477e15c3
END:VEVENT
END:VCALENDAR