BEGIN:VCALENDAR
VERSION:2.0
PRODID:-//hacksw/handcal//NONSGML v1.0//EN
CALSCALE:GREGORIAN
BEGIN:VEVENT
LOCATION:
DESCRIPTION:CIA MOVEO
DTSTART:20260628T124500Z
DTEND:20260628T134500Z
SUMMARY:CONSEQUENCES
URL;VALUE=URI:https://www.roxy.ulm.de/programm/programm.php?vid=5610
DTSTAMP:20260424T171429Z
UID:69eb88d5854ea
END:VEVENT
END:VCALENDAR