BEGIN:VCALENDAR
VERSION:2.0
PRODID:-//hacksw/handcal//NONSGML v1.0//EN
CALSCALE:GREGORIAN
BEGIN:VEVENT
LOCATION:
DESCRIPTION:Les del Picnic
DTSTART:20260628T144500Z
DTEND:20260628T154500Z
SUMMARY:Tan a prop
URL;VALUE=URI:https://www.roxy.ulm.de/programm/programm.php?vid=5609
DTSTAMP:20260424T165419Z
UID:69eb841be062d
END:VEVENT
END:VCALENDAR