BEGIN:VCALENDAR
VERSION:2.0
PRODID:-//hacksw/handcal//NONSGML v1.0//EN
CALSCALE:GREGORIAN
BEGIN:VEVENT
LOCATION:
DESCRIPTION:Les del Picnic
DTSTART:20260628T120000Z
DTEND:20260628T130000Z
SUMMARY:Tan a prop
URL;VALUE=URI:https://www.roxy.ulm.de/programm/programm.php?vid=5608
DTSTAMP:20260424T165527Z
UID:69eb845f39cb8
END:VEVENT
END:VCALENDAR