BEGIN:VCALENDAR
VERSION:2.0
PRODID:-//hacksw/handcal//NONSGML v1.0//EN
CALSCALE:GREGORIAN
BEGIN:VEVENT
LOCATION:
DESCRIPTION:
DTSTART:20260627T144500Z
DTEND:20260627T154500Z
SUMMARY:Lindy Hop Open Floor
URL;VALUE=URI:https://www.roxy.ulm.de/programm/programm.php?vid=5607
DTSTAMP:20260424T165353Z
UID:69eb84019db6f
END:VEVENT
END:VCALENDAR