BEGIN:VCALENDAR
VERSION:2.0
PRODID:-//hacksw/handcal//NONSGML v1.0//EN
CALSCALE:GREGORIAN
BEGIN:VEVENT
LOCATION:
DESCRIPTION:CIA MOVEO
DTSTART:20260627T160000Z
DTEND:20260627T170000Z
SUMMARY:CONSEQUENCES
URL;VALUE=URI:https://www.roxy.ulm.de/programm/programm.php?vid=5606
DTSTAMP:20260424T174213Z
UID:69eb8f557f258
END:VEVENT
END:VCALENDAR