BEGIN:VCALENDAR
VERSION:2.0
PRODID:-//hacksw/handcal//NONSGML v1.0//EN
CALSCALE:GREGORIAN
BEGIN:VEVENT
LOCATION:
DESCRIPTION:Wenn Erfahrung zu Bewegung wird
DTSTART:20260627T124500Z
DTEND:20260627T134500Z
SUMMARY:SILVER LININGS
URL;VALUE=URI:https://www.roxy.ulm.de/programm/programm.php?vid=5605
DTSTAMP:20260424T165731Z
UID:69eb84db2b024
END:VEVENT
END:VCALENDAR