BEGIN:VCALENDAR
VERSION:2.0
PRODID:-//hacksw/handcal//NONSGML v1.0//EN
CALSCALE:GREGORIAN
BEGIN:VEVENT
LOCATION:
DESCRIPTION:Zwischen Kampf und Tanz
DTSTART:20260627T134500Z
DTEND:20260627T144500Z
SUMMARY:Capoeira Showing
URL;VALUE=URI:https://www.roxy.ulm.de/programm/programm.php?vid=5604
DTSTAMP:20260424T165353Z
UID:69eb84019c650
END:VEVENT
END:VCALENDAR