BEGIN:VCALENDAR
VERSION:2.0
PRODID:-//hacksw/handcal//NONSGML v1.0//EN
CALSCALE:GREGORIAN
BEGIN:VEVENT
LOCATION:
DESCRIPTION:Urban vs. Contemporary
DTSTART:20260627T193000Z
DTEND:20260627T203000Z
SUMMARY:Mixed Battle
URL;VALUE=URI:https://www.roxy.ulm.de/programm/programm.php?vid=5603
DTSTAMP:20260424T165731Z
UID:69eb84db328c0
END:VEVENT
END:VCALENDAR