BEGIN:VCALENDAR
VERSION:2.0
PRODID:-//hacksw/handcal//NONSGML v1.0//EN
CALSCALE:GREGORIAN
BEGIN:VEVENT
LOCATION:
DESCRIPTION:Urban vs. Contemporary
DTSTART:20260627T170000Z
DTEND:20260627T180000Z
SUMMARY:Mixed Battle
URL;VALUE=URI:https://www.roxy.ulm.de/programm/programm.php?vid=5602
DTSTAMP:20260424T165659Z
UID:69eb84bbbef6b
END:VEVENT
END:VCALENDAR