BEGIN:VCALENDAR
VERSION:2.0
PRODID:-//hacksw/handcal//NONSGML v1.0//EN
CALSCALE:GREGORIAN
BEGIN:VEVENT
LOCATION:
DESCRIPTION:Les del Picnic
DTSTART:20260627T154500Z
DTEND:20260627T164500Z
SUMMARY:Tan a prop
URL;VALUE=URI:https://www.roxy.ulm.de/programm/programm.php?vid=5601
DTSTAMP:20260424T165515Z
UID:69eb84533599d
END:VEVENT
END:VCALENDAR