BEGIN:VCALENDAR
VERSION:2.0
PRODID:-//hacksw/handcal//NONSGML v1.0//EN
CALSCALE:GREGORIAN
BEGIN:VEVENT
LOCATION:
DESCRIPTION:Les del Picnic
DTSTART:20260627T131500Z
DTEND:20260627T141500Z
SUMMARY:Tan a prop
URL;VALUE=URI:https://www.roxy.ulm.de/programm/programm.php?vid=5600
DTSTAMP:20260424T172010Z
UID:69eb8a2ae68ef
END:VEVENT
END:VCALENDAR