BEGIN:VCALENDAR
VERSION:2.0
PRODID:-//hacksw/handcal//NONSGML v1.0//EN
CALSCALE:GREGORIAN
BEGIN:VEVENT
LOCATION:
DESCRIPTION:Maria Atunes
DTSTART:20260627T124500Z
DTEND:20260627T134500Z
SUMMARY:PANTERA
URL;VALUE=URI:https://www.roxy.ulm.de/programm/programm.php?vid=5598
DTSTAMP:20260424T165527Z
UID:69eb845fa80cd
END:VEVENT
END:VCALENDAR