BEGIN:VCALENDAR
VERSION:2.0
PRODID:-//hacksw/handcal//NONSGML v1.0//EN
CALSCALE:GREGORIAN
BEGIN:VEVENT
LOCATION:
DESCRIPTION:Mit Clémentine Bart / Cie Point Bart 
DTSTART:20260626T150000Z
DTEND:20260626T160000Z
SUMMARY:Final Sharing: Eddy 2.0
URL;VALUE=URI:https://www.roxy.ulm.de/programm/programm.php?vid=5596
DTSTAMP:20260424T165354Z
UID:69eb84021b98a
END:VEVENT
END:VCALENDAR