BEGIN:VCALENDAR
VERSION:2.0
PRODID:-//hacksw/handcal//NONSGML v1.0//EN
CALSCALE:GREGORIAN
BEGIN:VEVENT
LOCATION:
DESCRIPTION:
DTSTART:20260626T210000Z
DTEND:20260626T220000Z
SUMMARY:Prometheus Feuershow
URL;VALUE=URI:https://www.roxy.ulm.de/programm/programm.php?vid=5595
DTSTAMP:20260424T165527Z
UID:69eb845f3ab5e
END:VEVENT
END:VCALENDAR