BEGIN:VCALENDAR
VERSION:2.0
PRODID:-//hacksw/handcal//NONSGML v1.0//EN
CALSCALE:GREGORIAN
BEGIN:VEVENT
LOCATION:
DESCRIPTION:Wenn Erfahrung zu Bewegung wird
DTSTART:20260626T160000Z
DTEND:20260626T170000Z
SUMMARY:SILVER LININGS
URL;VALUE=URI:https://www.roxy.ulm.de/programm/programm.php?vid=5593
DTSTAMP:20260424T165419Z
UID:69eb841bdd4e9
END:VEVENT
END:VCALENDAR