BEGIN:VCALENDAR
VERSION:2.0
PRODID:-//hacksw/handcal//NONSGML v1.0//EN
CALSCALE:GREGORIAN
BEGIN:VEVENT
LOCATION:
DESCRIPTION:Maria Atunes
DTSTART:20260626T154500Z
DTEND:20260626T164500Z
SUMMARY:PANTERA
URL;VALUE=URI:https://www.roxy.ulm.de/programm/programm.php?vid=5591
DTSTAMP:20260424T165558Z
UID:69eb847ee1e8c
END:VEVENT
END:VCALENDAR