BEGIN:VCALENDAR
VERSION:2.0
PRODID:-//hacksw/handcal//NONSGML v1.0//EN
CALSCALE:GREGORIAN
BEGIN:VEVENT
LOCATION:
DESCRIPTION:Über 20 außergewöhnliche Holzspiele zum Entdecken\, Ausprobieren und Losspielen – für die ganze Familie
DTSTART:20260628T123000Z
DTEND:20260628T133000Z
SUMMARY:Spielwelt unter freiem Himmel
URL;VALUE=URI:https://www.roxy.ulm.de/programm/programm.php?vid=5590
DTSTAMP:20260424T165420Z
UID:69eb841c3825f
END:VEVENT
END:VCALENDAR