BEGIN:VCALENDAR
VERSION:2.0
PRODID:-//hacksw/handcal//NONSGML v1.0//EN
CALSCALE:GREGORIAN
BEGIN:VEVENT
LOCATION:
DESCRIPTION:Über 20 außergewöhnliche Holzspiele zum Entdecken\, Ausprobieren und Losspielen – für die ganze Familie
DTSTART:20260627T123000Z
DTEND:20260627T133000Z
SUMMARY:Spielwelt unter freiem Himmel
URL;VALUE=URI:https://www.roxy.ulm.de/programm/programm.php?vid=5589
DTSTAMP:20260424T165515Z
UID:69eb845325ab0
END:VEVENT
END:VCALENDAR