BEGIN:VCALENDAR
VERSION:2.0
PRODID:-//hacksw/handcal//NONSGML v1.0//EN
CALSCALE:GREGORIAN
BEGIN:VEVENT
LOCATION:Werkhalle
DESCRIPTION:Prachtliebe & Wunderfakten - Ulm
DTSTART:20270415T180000Z
DTEND:20270415T190000Z
SUMMARY:Dominik Eulberg
URL;VALUE=URI:https://www.roxy.ulm.de/programm/programm.php?vid=5577
DTSTAMP:20260424T054325Z
UID:69eae6dd9c7ea
END:VEVENT
END:VCALENDAR