BEGIN:VCALENDAR
VERSION:2.0
PRODID:-//hacksw/handcal//NONSGML v1.0//EN
CALSCALE:GREGORIAN
BEGIN:VEVENT
LOCATION:Cafébar
DESCRIPTION:mit DJ OnePiece und DJ Phil the Gap
DTSTART:20260509T203000Z
DTEND:20260509T213000Z
SUMMARY:Nachtschicht
URL;VALUE=URI:https://www.roxy.ulm.de/programm/programm.php?vid=5524
DTSTAMP:20260426T043823Z
UID:69ed7a9f1627f
END:VEVENT
END:VCALENDAR