BEGIN:VCALENDAR
VERSION:2.0
PRODID:-//hacksw/handcal//NONSGML v1.0//EN
CALSCALE:GREGORIAN
BEGIN:VEVENT
LOCATION:Studio
DESCRIPTION:Neurosen. Schief ist das neue Gerade. Eine schräge musikalische Theater-Revue
DTSTART:20260521T180000Z
DTEND:20260521T190000Z
SUMMARY:Tee mit Tanten vs. Men Afraid of Horses
URL;VALUE=URI:https://www.roxy.ulm.de/programm/programm.php?vid=5522
DTSTAMP:20260426T045345Z
UID:69ed7e3978a08
END:VEVENT
END:VCALENDAR