BEGIN:VCALENDAR
VERSION:2.0
PRODID:-//hacksw/handcal//NONSGML v1.0//EN
CALSCALE:GREGORIAN
BEGIN:VEVENT
LOCATION:Werkhalle
DESCRIPTION:Mit Stefan Moster\, Benno Schachtner und Live-Musik 
DTSTART:20260519T180000Z
DTEND:20260519T190000Z
SUMMARY:Vom Glück\, im Chor zu singen
URL;VALUE=URI:https://www.roxy.ulm.de/programm/programm.php?vid=5520
DTSTAMP:20260426T043649Z
UID:69ed7a4131ef4
END:VEVENT
END:VCALENDAR