BEGIN:VCALENDAR
VERSION:2.0
PRODID:-//hacksw/handcal//NONSGML v1.0//EN
CALSCALE:GREGORIAN
BEGIN:VEVENT
LOCATION:Werkhalle
DESCRIPTION:Weihnachten mit Sarah Straub
DTSTART:20261204T190000Z
DTEND:20261204T200000Z
SUMMARY:Lamettasongs
URL;VALUE=URI:https://www.roxy.ulm.de/programm/programm.php?vid=5504
DTSTAMP:20260424T103903Z
UID:69eb2c272c5b5
END:VEVENT
END:VCALENDAR