BEGIN:VCALENDAR
VERSION:2.0
PRODID:-//hacksw/handcal//NONSGML v1.0//EN
CALSCALE:GREGORIAN
BEGIN:VEVENT
LOCATION:Studio
DESCRIPTION:Showbuddies vs. Gäste
DTSTART:20260411T180000Z
DTEND:20260411T190000Z
SUMMARY:Showbuddies
URL;VALUE=URI:https://www.roxy.ulm.de/programm/programm.php?vid=5500
DTSTAMP:20260426T024458Z
UID:69ed600acb463
END:VEVENT
END:VCALENDAR