BEGIN:VCALENDAR
VERSION:2.0
PRODID:-//hacksw/handcal//NONSGML v1.0//EN
CALSCALE:GREGORIAN
BEGIN:VEVENT
LOCATION:Cafébar
DESCRIPTION:Walpurgis-Schüttler
DTSTART:20260430T200000Z
DTEND:20260430T210000Z
SUMMARY:Schüttel Dein Speck
URL;VALUE=URI:https://www.roxy.ulm.de/programm/programm.php?vid=5499
DTSTAMP:20260426T024530Z
UID:69ed602a43c43
END:VEVENT
END:VCALENDAR