BEGIN:VCALENDAR
VERSION:2.0
PRODID:-//hacksw/handcal//NONSGML v1.0//EN
CALSCALE:GREGORIAN
BEGIN:VEVENT
LOCATION:Cafébar
DESCRIPTION:„ALLES SO LEID WORLD TOUR“ 2026
DTSTART:20260410T180000Z
DTEND:20260410T190000Z
SUMMARY:EASY EASY
URL;VALUE=URI:https://www.roxy.ulm.de/programm/programm.php?vid=5496
DTSTAMP:20260426T024458Z
UID:69ed600acb477
END:VEVENT
END:VCALENDAR