BEGIN:VCALENDAR
VERSION:2.0
PRODID:-//hacksw/handcal//NONSGML v1.0//EN
CALSCALE:GREGORIAN
BEGIN:VEVENT
LOCATION:Studio
DESCRIPTION:Discovery Of Lightness
DTSTART:20260408T180000Z
DTEND:20260408T190000Z
SUMMARY:Christian Krischkowsky Quartet
URL;VALUE=URI:https://www.roxy.ulm.de/programm/programm.php?vid=5495
DTSTAMP:20260426T025247Z
UID:69ed61dfe6e8a
END:VEVENT
END:VCALENDAR