BEGIN:VCALENDAR
VERSION:2.0
PRODID:-//hacksw/handcal//NONSGML v1.0//EN
CALSCALE:GREGORIAN
BEGIN:VEVENT
LOCATION:Labor\, TanzLabor
DESCRIPTION:by Emi Miyoshi / SHIBUI Kollektiv
DTSTART:20260510T170000Z
DTEND:20260510T180000Z
SUMMARY:Let's hear it for the boy
URL;VALUE=URI:https://www.roxy.ulm.de/programm/programm.php?vid=5494
DTSTAMP:20260426T045417Z
UID:69ed7e59492f3
END:VEVENT
END:VCALENDAR