BEGIN:VCALENDAR
VERSION:2.0
PRODID:-//hacksw/handcal//NONSGML v1.0//EN
CALSCALE:GREGORIAN
BEGIN:VEVENT
LOCATION:Labor\, TanzLabor
DESCRIPTION:mit Karolin Stächele / DAGADA Dance Company
DTSTART:20260430T150000Z
DTEND:20260430T160000Z
SUMMARY:Final Sharing
URL;VALUE=URI:https://www.roxy.ulm.de/programm/programm.php?vid=5487
DTSTAMP:20260426T024622Z
UID:69ed605e90010
END:VEVENT
END:VCALENDAR