BEGIN:VCALENDAR
VERSION:2.0
PRODID:-//hacksw/handcal//NONSGML v1.0//EN
CALSCALE:GREGORIAN
BEGIN:VEVENT
LOCATION:Labor\, TanzLabor
DESCRIPTION:mit Karolin Stächele / DAGADA Dance Company
DTSTART:20260426T160000Z
DTEND:20260426T170000Z
SUMMARY:Workshop
URL;VALUE=URI:https://www.roxy.ulm.de/programm/programm.php?vid=5486
DTSTAMP:20260426T024520Z
UID:69ed602034acc
END:VEVENT
END:VCALENDAR