BEGIN:VCALENDAR
VERSION:2.0
PRODID:-//hacksw/handcal//NONSGML v1.0//EN
CALSCALE:GREGORIAN
BEGIN:VEVENT
LOCATION:Labor\, TanzLabor
DESCRIPTION:mit DJ Klaus Fumy
DTSTART:20260502T160000Z
DTEND:20260502T170000Z
SUMMARY:Ecstatic Shiva Dance
URL;VALUE=URI:https://www.roxy.ulm.de/programm/programm.php?vid=5485
DTSTAMP:20260426T045345Z
UID:69ed7e3950adc
END:VEVENT
END:VCALENDAR