BEGIN:VCALENDAR
VERSION:2.0
PRODID:-//hacksw/handcal//NONSGML v1.0//EN
CALSCALE:GREGORIAN
BEGIN:VEVENT
LOCATION:Werkhalle
DESCRIPTION:Plan Z - jetzt will er’s wissen!
DTSTART:20260307T190000Z
DTEND:20260307T200000Z
SUMMARY:Abdelkarim
URL;VALUE=URI:https://www.roxy.ulm.de/programm/programm.php?vid=5468
DTSTAMP:20260424T161816Z
UID:69eb7ba883a06
END:VEVENT
END:VCALENDAR