BEGIN:VCALENDAR
VERSION:2.0
PRODID:-//hacksw/handcal//NONSGML v1.0//EN
CALSCALE:GREGORIAN
BEGIN:VEVENT
LOCATION:Werkhalle
DESCRIPTION:Halftime-Show - Jetzt oder Nie
DTSTART:20260409T180000Z
DTEND:20260409T190000Z
SUMMARY:Katrin Bauerfeind
URL;VALUE=URI:https://www.roxy.ulm.de/programm/programm.php?vid=5450
DTSTAMP:20260426T030232Z
UID:69ed6428cdd63
END:VEVENT
END:VCALENDAR