BEGIN:VCALENDAR
VERSION:2.0
PRODID:-//hacksw/handcal//NONSGML v1.0//EN
CALSCALE:GREGORIAN
BEGIN:VEVENT
LOCATION:Werkhalle
DESCRIPTION:Through The Web Of Time - 40 Years\, One Voice
DTSTART:20260516T180000Z
DTEND:20260516T190000Z
SUMMARY:RAINBIRDS
URL;VALUE=URI:https://www.roxy.ulm.de/programm/programm.php?vid=5429
DTSTAMP:20260426T045346Z
UID:69ed7e3a0671b
END:VEVENT
END:VCALENDAR