BEGIN:VCALENDAR
VERSION:2.0
PRODID:-//hacksw/handcal//NONSGML v1.0//EN
CALSCALE:GREGORIAN
BEGIN:VEVENT
LOCATION:Werkhalle
DESCRIPTION:Aus voller Kehle für die Seele
DTSTART:20260413T180000Z
DTEND:20260413T190000Z
SUMMARY:ROXY singt!
URL;VALUE=URI:https://www.roxy.ulm.de/programm/programm.php?vid=5422
DTSTAMP:20260426T030232Z
UID:69ed6428c4dff
END:VEVENT
END:VCALENDAR