BEGIN:VCALENDAR
VERSION:2.0
PRODID:-//hacksw/handcal//NONSGML v1.0//EN
CALSCALE:GREGORIAN
BEGIN:VEVENT
LOCATION:Werkhalle
DESCRIPTION:Große Worte auf der großen Bühne
DTSTART:20260411T180000Z
DTEND:20260411T190000Z
SUMMARY:Poetry Slam
URL;VALUE=URI:https://www.roxy.ulm.de/programm/programm.php?vid=5418
DTSTAMP:20260426T025126Z
UID:69ed618e338de
END:VEVENT
END:VCALENDAR