BEGIN:VCALENDAR
VERSION:2.0
PRODID:-//hacksw/handcal//NONSGML v1.0//EN
CALSCALE:GREGORIAN
BEGIN:VEVENT
LOCATION:Cafébar
DESCRIPTION:Brucca Beat Tour 2026
DTSTART:20260502T190000Z
DTEND:20260502T200000Z
SUMMARY:Malaka Hostel
URL;VALUE=URI:https://www.roxy.ulm.de/programm/programm.php?vid=5407
DTSTAMP:20260426T045304Z
UID:69ed7e10cdab7
END:VEVENT
END:VCALENDAR