BEGIN:VCALENDAR
VERSION:2.0
PRODID:-//hacksw/handcal//NONSGML v1.0//EN
CALSCALE:GREGORIAN
BEGIN:VEVENT
LOCATION:Cafébar
DESCRIPTION:Sag Mir Almanya Tour 2026
DTSTART:20260415T180000Z
DTEND:20260415T190000Z
SUMMARY:ENGIN
URL;VALUE=URI:https://www.roxy.ulm.de/programm/programm.php?vid=5405
DTSTAMP:20260426T024520Z
UID:69ed6020376aa
END:VEVENT
END:VCALENDAR