BEGIN:VCALENDAR
VERSION:2.0
PRODID:-//hacksw/handcal//NONSGML v1.0//EN
CALSCALE:GREGORIAN
BEGIN:VEVENT
LOCATION:Cafébar
DESCRIPTION:Live! at the Hollywood Bowl Tour 2026
DTSTART:20260424T180000Z
DTEND:20260424T190000Z
SUMMARY:Fortuna Ehrenfeld
URL;VALUE=URI:https://www.roxy.ulm.de/programm/programm.php?vid=5397
DTSTAMP:20260426T025126Z
UID:69ed618e48c8a
END:VEVENT
END:VCALENDAR