BEGIN:VCALENDAR
VERSION:2.0
PRODID:-//hacksw/handcal//NONSGML v1.0//EN
CALSCALE:GREGORIAN
BEGIN:VEVENT
LOCATION:Studio\, Foyer
DESCRIPTION:Aquarium Doku Premiere mit Musik und Talk
DTSTART:20250907T100000Z
DTEND:20250907T110000Z
SUMMARY:„Nachtclub Aquarium“ Matinee 
URL;VALUE=URI:https://www.roxy.ulm.de/programm/programm.php?vid=5352
DTSTAMP:20260425T145903Z
UID:69ecba97a30e1
END:VEVENT
END:VCALENDAR